BEGIN:VCALENDAR
VERSION:2.0
PRODID:-//Waves of Education - ECPv6.15.20//NONSGML v1.0//EN
CALSCALE:GREGORIAN
METHOD:PUBLISH
X-WR-CALNAME:Waves of Education
X-ORIGINAL-URL:https://wavesofeducation.org
X-WR-CALDESC:Events for Waves of Education
REFRESH-INTERVAL;VALUE=DURATION:PT1H
X-Robots-Tag:noindex
X-PUBLISHED-TTL:PT1H
BEGIN:VTIMEZONE
TZID:UTC
BEGIN:STANDARD
TZOFFSETFROM:+0000
TZOFFSETTO:+0000
TZNAME:UTC
DTSTART:20220101T000000
END:STANDARD
END:VTIMEZONE
BEGIN:VEVENT
DTSTART;VALUE=DATE:20231128
DTEND;VALUE=DATE:20231129
DTSTAMP:20260420T131953
CREATED:20231023T162313Z
LAST-MODIFIED:20231125T164809Z
UID:17919-1701129600-1701215999@wavesofeducation.org
SUMMARY:Giving Tuesday
DESCRIPTION:Join us on Tuesday\, November 28th for a day of giving! GivingTuesday is a global generosity movement\, unleashing the power of people and organizations to transform their communities and the world. \nThis year\, in accordance with GivingTuesday we are excited to launch  our brand new sponsorship program! This program  allows our students in need to be matched with a sponsor willing to give them a chance at a quality education.  \nAll sponsorships will be for children attending Waves of Education Primary and Nursery school. Current students are in nursery classes up through first grade equivalent. Sponsorships are $30 a month and can be billed as frequently as monthly or annually.  \nView all available sponsees\, here.  \nYour sponsored child will receive:\n\nDaily breakfast and lunch\nSchool supplies and books\nThree school uniforms\nAccess to clean drinking water\n\nAdditionally\, your donation will support the maintenance of the school and ensure it has the resources needed to provide a quality education in a safe school structure. \nWhat are the benefits of a sponsor?\nAs a sponsor\, you will play a vital role in your child’s life. You will have the opportunity to build a relationship with your child through pictures and letters. You will receive: \n\nAt least one annual photo of your child.\nA letter or drawing from your child.\nA copy of your child’s report card each trimester.\n\nYou can watch as your ongoing support empowers your child and changes his or her life. \nBasic facts about Uganda school system: \n• New school years begin in February\n• The school year is broken up into trimesters\n  ◦ Trimester 1: February – May\n  ◦ Trimester 2: June – August\n  ◦ Trimester 3: September- December\n• School levels\, age is not a factor in what class a student is in.\n  ◦ Nursery school (preschool)\n    · Baby class\n    · Middle class\n    · Top class\n  ◦ Primary School\n    · P1 class (kindergarten)\n    · P2 (1st grade)\n    · P3 (2nd grade)\n    · P4 (3rd grade)\n    · P5 (4th grade)\n    · P6 (5th grade)\n    · P7 (6th grade)\n  ◦ Secondary school – ordinary Level\n    · S1 (7th grade)\n    · S2 (8th grade)\n    · S3 (Freshman)\n    · S4 (Sophomore)\n  ◦ Secondary school – advanced level\n    · S5 (Junior)\n    · S6  (Senior)
URL:https://wavesofeducation.org/event/giving-tuesday/
CATEGORIES:General
ATTACH;FMTTYPE=image/png:https://wavesofeducation.org/wp-content/uploads/2023/10/IMG_0853-e1732919970344.png
END:VEVENT
BEGIN:VEVENT
DTSTART;TZID=UTC:20231113T080000
DTEND;TZID=UTC:20231201T170000
DTSTAMP:20260420T131953
CREATED:20231124T191846Z
LAST-MODIFIED:20231124T192751Z
UID:18577-1699862400-1701450000@wavesofeducation.org
SUMMARY:Read • A • Thon
DESCRIPTION:Beginning on Monday\, November 13th and lasting until Friday\, December 1st Waves of Education will be partnering with the Fair Haven School District and hosting its third annual Read-A-Thon. \nDuring this time span\, Fair Haven students (grades 1-5) will be pledging to read a certain number of minutes and asking family as well as friends to support them in reaching their goal through monetary donations.  \nThis year Waves of Education has set a fundraising goal of $30\,000 to help fund things such as school maintenance fees\, purchasing a bus for students to be transported to and from the school\, and hiring more teachers so that more students can attend. \nPlease join us in our effort to educate today’s youth and change lives. \nTo support our readers please visit the following website:  \nRead•A•Thon  \nThank you in advance for your support.
URL:https://wavesofeducation.org/event/read-a-thon/
CATEGORIES:General
ATTACH;FMTTYPE=image/jpeg:https://wavesofeducation.org/wp-content/uploads/2023/11/58764-1699487678-scaled.jpg
END:VEVENT
BEGIN:VEVENT
DTSTART;VALUE=DATE:20231001
DTEND;VALUE=DATE:20231002
DTSTAMP:20260420T131953
CREATED:20231125T154121Z
LAST-MODIFIED:20231125T154142Z
UID:18594-1696118400-1696204799@wavesofeducation.org
SUMMARY:Run Towards A Better Future 5K | 2023
DESCRIPTION:A big THANK YOU to all of this year’s participants at our first in person 5K event this past Sunday! All of your support helped us raise $15\,000! With these funds\, we will be buying books and school supplies for our students and helping with operating costs of the school.  \nWe hope you had as much fun at the 5K as we did! A big shout out to @DJMikeLevitt for keeping us entertained\, @ShaneDoesPhotos for photographing the event\, and all of our sponsors for making this event possible. Relive the event through our photo gallery. \nCongratulations to our TOP 3 finishers! \n\nKen Harry | Time: 24:25 \nJennifer Amaro | Time: 31:59 \nEvan Martin | Time: 32:24 \n\nDon’t forget to follow us on social media @wavesofeducation for continued updates and spread the word. We’ll see you next year for another fun run! 
URL:https://wavesofeducation.org/event/run-towards-a-better-future-5k-2023/
CATEGORIES:General
ATTACH;FMTTYPE=image/png:https://wavesofeducation.org/wp-content/uploads/2023/11/5K-2023-Logo.png
END:VEVENT
BEGIN:VEVENT
DTSTART;VALUE=DATE:20230101
DTEND;VALUE=DATE:20260102
DTSTAMP:20260420T131953
CREATED:20231023T163741Z
LAST-MODIFIED:20231023T164232Z
UID:17945-1672531200-1767311999@wavesofeducation.org
SUMMARY:Children School Supplies
DESCRIPTION:
URL:https://wavesofeducation.org/event/children-school-supplies/
CATEGORIES:General
END:VEVENT
END:VCALENDAR